BEGIN:VCALENDAR
VERSION:2.0
PRODID:-//eventon.com NONSGML v1.0//EN
CALSCALE:GREGORIAN
METHOD:PUBLISH
BEGIN:VEVENT
UID:69e9d70601689
DTSTAMP:20260423T082334Z
DTSTART:20220808
DTEND:20220809
LOCATION:Kinderfreizeittreff HOPPLA Hallesche Str.19\,  99085 Erfurt
SUMMARY:4. Ferienwoche im Kinder-Freizeittreff Hoppla
DESCRIPTION:08.08. Mo Wasserspiele 09.08. Di Gartenpiraten 10.08. Mi Ausflu
 g 11.08. Do Norberttag/ Wikinger Schach\,  Frisbee\,  Federball 12.08. Fr A
 usflug\nhttps://stadtjugendring-erfurt.de/events/4-ferienwoche-im-kinder-fr
 eizeittreff-hoppla
URL:https://stadtjugendring-erfurt.de/events/4-ferienwoche-im-kinder-freizeittreff-hoppla
END:VEVENT
END:VCALENDAR