BEGIN:VCALENDAR
VERSION:2.0
PRODID:-//eventon.com NONSGML v1.0//EN
CALSCALE:GREGORIAN
METHOD:PUBLISH
BEGIN:VEVENT
UID:69e9da9522a33
DTSTAMP:20260423T083845Z
DTSTART:20220804T150000Z
DTEND:20220804T160000Z
LOCATION:Bibliothek am Domplatz Domplatz 1\,  99084 Erfurt
SUMMARY:Chinesische Teeverkostung
DESCRIPTION:Entdecken Sie mit dem Sinologen und Mediziner Wieland Schulz di
 e unterschiedlichen Geschmacksrichtungen chinesischer Teesorten und deren o
 riginale Zubereitung in gemütlicher AtmosphäreAnmeldung unter: veranstalt
 ungen.bibliothek@erfurt\nhttps://stadtjugendring-erfurt.de/events/chinesisc
 he-teeverkostung
URL:https://stadtjugendring-erfurt.de/events/chinesische-teeverkostung
END:VEVENT
END:VCALENDAR