BEGIN:VCALENDAR
VERSION:2.0
PRODID:-//eventon.com NONSGML v1.0//EN
CALSCALE:GREGORIAN
METHOD:PUBLISH
BEGIN:VEVENT
UID:69e8871223a56
DTSTAMP:20260422T083010Z
DTSTART:20220804T093000Z
DTEND:20220804T160000Z
LOCATION:Jugendhaus Maxi - PERSPEKTIV e.V.\,  Rosa-Luxemburg-Straße 50\,  99086 Erfurt\,  Deutschland Jugendhaus Maxi - PERSPEKTIV e.V.\,  Rosa-Luxemburg-Straße 50\,  99086 Erfurt\,  Deutschland
SUMMARY:Ausflug ins Bad nach Stotternheim mit dem Jugendhaus Maxi
DESCRIPTION:Bitte um Anmeldung: Fon: 0361 5623391E-Mail:&nbsp;jh-maxi@persp
 ektiv-erfurt.de\nhttps://stadtjugendring-erfurt.de/events/ausflug-ins-bad-n
 ach-stotternheim-mit-dem-jugendhaus-maxi
URL:https://stadtjugendring-erfurt.de/events/ausflug-ins-bad-nach-stotternheim-mit-dem-jugendhaus-maxi
END:VEVENT
END:VCALENDAR