BEGIN:VCALENDAR
VERSION:2.0
PRODID:-//eventon.com NONSGML v1.0//EN
CALSCALE:GREGORIAN
METHOD:PUBLISH
BEGIN:VEVENT
UID:69e8a1678c1f1
DTSTAMP:20260422T102231Z
DTSTART:20220815T080000Z
DTEND:20220815T130000Z
LOCATION:Jena
SUMMARY:Ausflug zur Imaginata in Jena
DESCRIPTION:15.08. / 10 – 15 Uhr Ausflug nach Jena zur Imaginata – Expe
 rimente\,  Aktionen und Überraschungen für Kinder\,  Jugendliche und Fami
 lien Teilnahmebeitrag pro Person und Angebot: 5 Euro Anmeldung und Informat
 ionen: Telefon 0361/6422661 oder per E-Mail OffeneArbeitErfurt@gmx.de\nhttp
 s://stadtjugendring-erfurt.de/events/ausflug-zur-imaginata-in-jena
URL:https://stadtjugendring-erfurt.de/events/ausflug-zur-imaginata-in-jena
END:VEVENT
END:VCALENDAR