BEGIN:VCALENDAR
VERSION:2.0
PRODID:-//eventon.com NONSGML v1.0//EN
CALSCALE:GREGORIAN
METHOD:PUBLISH
BEGIN:VEVENT
UID:69e4c70542766
DTSTAMP:20260419T121357Z
DTSTART:20220730
DTEND:20220731
LOCATION:Renthendorf \,  Deutschland
SUMMARY:Ferienfreizeit in Renthendorf
DESCRIPTION:Ort:&nbsp;&nbsp;&nbsp;&nbsp;&nbsp;&nbsp;&nbsp; Renthendorf\,  S
 chullandheim in Ostthüringen An- und Abreise&nbsp;&nbsp;&nbsp;&nbsp;&nbsp;
 &nbsp;&nbsp;&nbsp;&nbsp;&nbsp;&nbsp;&nbsp;&nbsp; eigene Anreise Altersempfe
 hlung:&nbsp;&nbsp;&nbsp;&nbsp;&nbsp;&nbsp;&nbsp;&nbsp; Kinder von 6 &#8211;
  12 Jahren Leistungen&nbsp;&nbsp;&nbsp;&nbsp;&nbsp;&nbsp;&nbsp;&nbsp; 8 Tag
 e\,  7 Ü / VP Unterkunft&nbsp;&nbsp;&nbsp;&nbsp;&nbsp;&nbsp;&nbsp; im Haus
 \,  4-und 6-Bettzimmer\,  Du/WC auf der Etage Preis:&nbsp;&nbsp;&nbsp; 220 
 €; ermäßigt 205 € Programmauszüge: Dorfrallye\,  Lagerfeuer mit Knü
 ppelkuchen\,  Besuch der Mühle Schönborn mit Mittagessen[..]\nhttps://sta
 dtjugendring-erfurt.de/events/ferienfreizeit-in-renthendorf
URL:https://stadtjugendring-erfurt.de/events/ferienfreizeit-in-renthendorf
END:VEVENT
END:VCALENDAR