BEGIN:VCALENDAR
VERSION:2.0
PRODID:-//eventon.com NONSGML v1.0//EN
CALSCALE:GREGORIAN
METHOD:PUBLISH
BEGIN:VEVENT
UID:69e8885f492cb
DTSTAMP:20260422T083543Z
DTSTART:20220819
DTEND:20220820
LOCATION:Ostseebad Ahlbeck auf Usedom 17424\,  Ostseebad Heringsdorf\,  Usedom
SUMMARY:BadespaÃŸ an der Ostsee in Ahlbeck
DESCRIPTION:BadespaÃŸ an der Ostsee Ort:&nbsp;&nbsp;&nbsp;&nbsp;&nbsp;&nbsp
 ;&nbsp; Ahlbeck\,  Usedom / Ostsee\,  Jugendferienpark Termin:&nbsp;&nbsp;&
 nbsp;&nbsp;&nbsp;&nbsp;&nbsp;&nbsp;&nbsp;&nbsp;&nbsp;&nbsp;&nbsp;&nbsp; 19.
 08. &#8211; 26.08.2022 Abreise:&nbsp;&nbsp;&nbsp;&nbsp;&nbsp;&nbsp;&nbsp;&n
 bsp;&nbsp;&nbsp;&nbsp;&nbsp;&nbsp; Freitagmorgen RÃ¼ckkunft:&nbsp;&nbsp;&nb
 sp;&nbsp;&nbsp;&nbsp;&nbsp;&nbsp; Freitagnachmittag Altersempfehlung:&nbsp;
 &nbsp;&nbsp;&nbsp;&nbsp;&nbsp;&nbsp;&nbsp; Kinder und Jugendliche von 10 â€
 “ 15 Jahren An- und Abreise:&nbsp;&nbsp;&nbsp;&nbsp;&nbsp;&nbsp;&nbsp;&nbsp
 ;&nbsp;&nbsp;&nbsp;&nbsp; Busfahrt ab Erfurt\,  Zusteigen in Jena und Gera 
 Leistunge:&nbsp;&nbsp;&nbsp;&nbsp;&nbsp;&nbsp;&nbsp;&nbsp;&nbsp; 8 Tage\,  
 7 Ãœ / VP Unterkunft&nbsp;&nbsp;&nbsp;&nbsp;&nbsp;&nbsp;&nbsp; im Haus &#82
 22;Luise&#8220;\,  zentrale[..]\nhttps://stadtjugendring-erfurt.de/events/b
 adespass-an-der-ostsee-in-ahlbeck
URL:https://stadtjugendring-erfurt.de/events/badespass-an-der-ostsee-in-ahlbeck
END:VEVENT
END:VCALENDAR