BEGIN:VCALENDAR
VERSION:2.0
PRODID:-//eventon.com NONSGML v1.0//EN
CALSCALE:GREGORIAN
METHOD:PUBLISH
BEGIN:VEVENT
UID:69e4de58ad54e
DTSTAMP:20260419T135328Z
DTSTART:20220723
DTEND:20220724
LOCATION:Renthendorf \,  Deutschland
SUMMARY:Abenteuer- und Kreativ-Freizeit: Auf Jonas Spuren unterwegs
DESCRIPTION:Abenteuer- und Kreativ-Freizeit: Auf Jonas Spuren unterwegs 23.
 07.2022 bis 30.07.2022 Renthendorf \,  Deutschland Eine Woche kreativ sein 
 im Schullandheim Renthendorf Buchungsnummer: 22103 Kosten Preis ab 179\, 00
 &nbsp;€ Wenn du gern bastelst\,  singst und Theater spielst&nbsp;und wenn
  du gern draußen unterwegs bist\,  um Neues zu entdecken\, &nbsp;wird es d
 ir bei uns gefallen. Wir[..]\nhttps://stadtjugendring-erfurt.de/events/aben
 teuer-und-kreativ-freizeit-auf-jonas-spuren-unterwegs
URL:https://stadtjugendring-erfurt.de/events/abenteuer-und-kreativ-freizeit-auf-jonas-spuren-unterwegs
END:VEVENT
END:VCALENDAR