BEGIN:VCALENDAR
VERSION:2.0
PRODID:-//eventon.com NONSGML v1.0//EN
CALSCALE:GREGORIAN
METHOD:PUBLISH
BEGIN:VEVENT
UID:69e8a3ee0e1ee
DTSTAMP:20260422T103318Z
DTSTART:20220419T080000Z
DTEND:20220422T130000Z
LOCATION:Galerie Waidspeicher Domplatz 18\,  99084 Erfurt
SUMMARY:INSIDE FASHION. Mode selbstgemacht – mehrtägiger Ferienworkshop
DESCRIPTION:INSIDE FASHION. Mode selbstgemacht – mehrtägiger Ferienworks
 hop mit den freien Pädagoginnen Katharina und Elisabeth 19.04. 2022 bis 22
 .04.2022\,  täglich von 10:00 Uhr bis 15:00 Uhr in der Galerie Waidspeiche
 r für Kinder und Jugendliche ab 12 Jahren\,  nur mit vorheriger Anmeldung 
 bis 05. April unter: galeriewaidspeicher@erfurt.de oder 0361-6551610 Anläs
 slich der Ausstellung[..]\nhttps://stadtjugendring-erfurt.de/events/inside-
 fashion-mode-selbstgemacht-mehrtaegiger-ferienworkshop
URL:https://stadtjugendring-erfurt.de/events/inside-fashion-mode-selbstgemacht-mehrtaegiger-ferienworkshop
END:VEVENT
END:VCALENDAR