BEGIN:VCALENDAR
VERSION:2.0
PRODID:-//eventon.com NONSGML v1.0//EN
CALSCALE:GREGORIAN
METHOD:PUBLISH
BEGIN:VEVENT
UID:69e4c79e9950a
DTSTAMP:20260419T121630Z
DTSTART:20220824
DTEND:20220825
LOCATION:Untermaßfeld\,  Thüringen
SUMMARY:Waldcamp „Der Waldzirkus“ in Untermaßfeld - BUNDjugend Thüringen
DESCRIPTION:24.8.-26.8.2022 Kinder von 8 bis 12 Infos und Anmeldung unter b
 und.meiningen@bund.net Beim dreitägigen Waldcamp in Untermaßfeld können 
 Kinder den Wald erkunden\,  auf dem Waldspielplatz toben und wie jedes Jahr
  auch ein kreatives Theater- bzw. Zirkusprogramm vorbereiten\,  welches fü
 r die Eltern\,  Großeltern\,  Geschwister\,  Gäste am Ende des Camps vorg
 eführt wird. Die[..]\nhttps://stadtjugendring-erfurt.de/events/waldcamp-de
 r-waldzirkus-in-untermassfeld-bundjugend-thueringen
URL:https://stadtjugendring-erfurt.de/events/waldcamp-der-waldzirkus-in-untermassfeld-bundjugend-thueringen
END:VEVENT
END:VCALENDAR