BEGIN:VCALENDAR
VERSION:2.0
PRODID:-//eventon.com NONSGML v1.0//EN
CALSCALE:GREGORIAN
METHOD:PUBLISH
BEGIN:VEVENT
UID:69e73cc6863c6
DTSTAMP:20260421T090054Z
DTSTART:20211027T120000Z
DTEND:20211027T160000Z
LOCATION:Freizeittreff Stotternheim Freizeittreff Stotternheim\,  Walter – Rein – Straße 154\,  99095 Erfurt
SUMMARY:Kleines Halloweenfest im Freizeittreff Stotternheim
DESCRIPTION:Kommt vorbei ab 14 Uhr\nhttps://stadtjugendring-erfurt.de/event
 s/kleines-halloweenfest-im-freizeittreff-stotternheim
URL:https://stadtjugendring-erfurt.de/events/kleines-halloweenfest-im-freizeittreff-stotternheim
END:VEVENT
END:VCALENDAR