BEGIN:VCALENDAR
VERSION:2.0
PRODID:-//eventon.com NONSGML v1.0//EN
CALSCALE:GREGORIAN
METHOD:PUBLISH
BEGIN:VEVENT
UID:69e9d6ce8b20f
DTSTAMP:20260423T082238Z
DTSTART:20210830T070000Z
DTEND:20210903T100000Z
LOCATION:Fachhochschule Erfurt Altonaer Str. 25\,  99085 Erfurt
SUMMARY:Projektwoche Kompost: Küchenabfälle zu Wurmtee!
DESCRIPTION:Küchenabfälle landen oft im Restmüll. Aber wenn man sie komp
 ostiert\,  werden sie zu Nährstoffen für Pflanzen. Das Schülerforschungs
 zentrum an der Fachhochschule Erfurt bietet am Ende der Sommerferien eine P
 rojektwoche zum Thema Kompost an. Insbesondere werden wir in dieser Woche e
 inen Wurmkompost bauen. Wir untersuchen außerdem die mikroskopisch kleinen
  Lebewesen in[..]\nhttps://stadtjugendring-erfurt.de/events/projektwoche-ko
 mpost-kuechenabfaelle-zu-wurmtee
URL:https://stadtjugendring-erfurt.de/events/projektwoche-kompost-kuechenabfaelle-zu-wurmtee
END:VEVENT
END:VCALENDAR