BEGIN:VCALENDAR
VERSION:2.0
PRODID:-//eventon.com NONSGML v1.0//EN
CALSCALE:GREGORIAN
METHOD:PUBLISH
BEGIN:VEVENT
UID:69e4d04faf7f4
DTSTAMP:20260419T125335Z
DTSTART:20210809T080000Z
DTEND:20210811T120000Z
LOCATION:IMAGO Kunst- und Designschule e.V.  Juri-Gagarin-Ring 111
SUMMARY:„Linienabenteuer"
DESCRIPTION:Wann ? 9.8. – 11.8.2021\,  täglich 10 – 14 Uhr\,  Ateliers
  des IMAGO e.V. Was? Hier entdeckt ihr eure Freude am Schreiben und förder
 t eure gestalterischen Fähigkeiten. Wir schreiben aber nicht einfach mit d
 em Füller\,  sondern mit fast Allem\,  das man finden kann – Äste\,  Kl
 ammern\,  Essstäbchen\,  … Somit nähert[..]\nhttps://stadtjugendring-er
 furt.de/events/linienabenteuer
URL:https://stadtjugendring-erfurt.de/events/linienabenteuer
END:VEVENT
END:VCALENDAR