BEGIN:VCALENDAR
VERSION:2.0
PRODID:-//eventon.com NONSGML v1.0//EN
CALSCALE:GREGORIAN
METHOD:PUBLISH
BEGIN:VEVENT
UID:69e749927aef8
DTSTAMP:20260421T095530Z
DTSTART:20210801T220000Z
DTEND:20210805T220000Z
LOCATION:Schotte e.V. Schottenstraße 7. 99084 Erfurt
SUMMARY:Theaterworkshops
DESCRIPTION:Wann? 02. &#8211; 06.08. Wer? Jugendliche zwischen 12 und 25 Ja
 hren Wo? Schotte e.V Anmeldung abgeschlossen\nhttps://stadtjugendring-erfur
 t.de/events/theaterworkshops
URL:https://stadtjugendring-erfurt.de/events/theaterworkshops
END:VEVENT
END:VCALENDAR